BEGIN:VCALENDAR
VERSION:2.0
PRODID:-//San Antonio de Padua - ECPv6.15.20//NONSGML v1.0//EN
CALSCALE:GREGORIAN
METHOD:PUBLISH
X-ORIGINAL-URL:https://sanantoniochurch.org
X-WR-CALDESC:Events for San Antonio de Padua
REFRESH-INTERVAL;VALUE=DURATION:PT1H
X-Robots-Tag:noindex
X-PUBLISHED-TTL:PT1H
BEGIN:VTIMEZONE
TZID:America/Los_Angeles
BEGIN:DAYLIGHT
TZOFFSETFROM:-0800
TZOFFSETTO:-0700
TZNAME:PDT
DTSTART:20250309T100000
END:DAYLIGHT
BEGIN:STANDARD
TZOFFSETFROM:-0700
TZOFFSETTO:-0800
TZNAME:PST
DTSTART:20251102T090000
END:STANDARD
BEGIN:DAYLIGHT
TZOFFSETFROM:-0800
TZOFFSETTO:-0700
TZNAME:PDT
DTSTART:20260308T100000
END:DAYLIGHT
BEGIN:STANDARD
TZOFFSETFROM:-0700
TZOFFSETTO:-0800
TZNAME:PST
DTSTART:20261101T090000
END:STANDARD
BEGIN:DAYLIGHT
TZOFFSETFROM:-0800
TZOFFSETTO:-0700
TZNAME:PDT
DTSTART:20270314T100000
END:DAYLIGHT
BEGIN:STANDARD
TZOFFSETFROM:-0700
TZOFFSETTO:-0800
TZNAME:PST
DTSTART:20271107T090000
END:STANDARD
END:VTIMEZONE
BEGIN:VEVENT
DTSTART;TZID=America/Los_Angeles:20260423T180000
DTEND;TZID=America/Los_Angeles:20260423T200000
DTSTAMP:20260420T081159
CREATED:20260408T001906Z
LAST-MODIFIED:20260409T205950Z
UID:1845-1776967200-1776974400@sanantoniochurch.org
SUMMARY:Men's Poker Night
DESCRIPTION:
URL:https://sanantoniochurch.org/event/mens-poker-night/
ATTACH;FMTTYPE=image/jpeg:https://sanantoniochurch.org/wp-content/uploads/2026/04/04.23.26-mens-poker-night-final-v2.jpg
END:VEVENT
BEGIN:VEVENT
DTSTART;TZID=America/Los_Angeles:20260423T190000
DTEND;TZID=America/Los_Angeles:20260423T210000
DTSTAMP:20260420T081159
CREATED:20260408T000115Z
LAST-MODIFIED:20260408T000115Z
UID:1842-1776970800-1776978000@sanantoniochurch.org
SUMMARY:Young Adult Trivia Night
DESCRIPTION:
URL:https://sanantoniochurch.org/event/young-adult-trivia-night/
ATTACH;FMTTYPE=image/jpeg:https://sanantoniochurch.org/wp-content/uploads/2026/04/04.23.26-young-adult-trivia-night.jpg
END:VEVENT
BEGIN:VEVENT
DTSTART;TZID=America/Los_Angeles:20260501T193000
DTEND;TZID=America/Los_Angeles:20260501T210000
DTSTAMP:20260420T081159
CREATED:20260331T031636Z
LAST-MODIFIED:20260331T031636Z
UID:1826-1777663800-1777669200@sanantoniochurch.org
SUMMARY:Easter Concert
DESCRIPTION:
URL:https://sanantoniochurch.org/event/easter-concert/
ATTACH;FMTTYPE=image/jpeg:https://sanantoniochurch.org/wp-content/uploads/2026/03/05.01.26-easter-concert-detail-flyer.jpg
END:VEVENT
BEGIN:VEVENT
DTSTART;TZID=America/Los_Angeles:20260503T000000
DTEND;TZID=America/Los_Angeles:20260504T235959
DTSTAMP:20260420T081159
CREATED:20260331T032156Z
LAST-MODIFIED:20260407T233356Z
UID:1828-1777766400-1777939199@sanantoniochurch.org
SUMMARY:Parish Assembly
DESCRIPTION:Please RSVP HERE 
URL:https://sanantoniochurch.org/event/parish-assembly/
ATTACH;FMTTYPE=image/png:https://sanantoniochurch.org/wp-content/uploads/2026/03/05.03.26-ppc-save-the-dates-flyer-FINAL-V6.png
END:VEVENT
BEGIN:VEVENT
DTSTART;TZID=America/Los_Angeles:20260510T000000
DTEND;TZID=America/Los_Angeles:20260510T235959
DTSTAMP:20260420T081159
CREATED:20260331T033854Z
LAST-MODIFIED:20260331T033945Z
UID:1831-1778371200-1778457599@sanantoniochurch.org
SUMMARY:Respect Life Mother's Day Roses Fundraiser
DESCRIPTION:Give to Respect Life
URL:https://sanantoniochurch.org/event/respect-life-mothers-day-roses-fundraiser/
ATTACH;FMTTYPE=image/jpeg:https://sanantoniochurch.org/wp-content/uploads/2026/03/05.10.26-mothers-day-rose-fundraiser.jpg
END:VEVENT
BEGIN:VEVENT
DTSTART;TZID=America/Los_Angeles:20260514T000000
DTEND;TZID=America/Los_Angeles:20260514T235959
DTSTAMP:20260420T081159
CREATED:20251203T215109Z
LAST-MODIFIED:20251203T215109Z
UID:1698-1778716800-1778803199@sanantoniochurch.org
SUMMARY:The Holy Land
DESCRIPTION:
URL:https://sanantoniochurch.org/event/the-holy-land/
CATEGORIES:Announcements
ATTACH;FMTTYPE=image/jpeg:https://sanantoniochurch.org/wp-content/uploads/2025/12/holy-land-flyer.jpg
END:VEVENT
BEGIN:VEVENT
DTSTART;TZID=America/Los_Angeles:20260622T080000
DTEND;TZID=America/Los_Angeles:20260622T170000
DTSTAMP:20260420T081159
CREATED:20260331T031101Z
LAST-MODIFIED:20260331T031101Z
UID:1814-1782115200-1782147600@sanantoniochurch.org
SUMMARY:2026 VBS Save the Date
DESCRIPTION:
URL:https://sanantoniochurch.org/event/2026-vbs-save-the-date/
ATTACH;FMTTYPE=image/jpeg:https://sanantoniochurch.org/wp-content/uploads/2026/03/VBS-2026.jpg
END:VEVENT
END:VCALENDAR